BEGIN:VCALENDAR
VERSION:2.0
PRODID:-//Human Invest - ECPv5.4.0.2//NONSGML v1.0//EN
CALSCALE:GREGORIAN
METHOD:PUBLISH
X-WR-CALNAME:Human Invest
X-ORIGINAL-URL:https://humaninvest.ro
X-WR-CALDESC:Events for Human Invest
BEGIN:VTIMEZONE
TZID:Europe/Bucharest
BEGIN:DAYLIGHT
TZOFFSETFROM:+0200
TZOFFSETTO:+0300
TZNAME:EEST
DTSTART:20160327T010000
END:DAYLIGHT
BEGIN:STANDARD
TZOFFSETFROM:+0300
TZOFFSETTO:+0200
TZNAME:EET
DTSTART:20161030T010000
END:STANDARD
END:VTIMEZONE
BEGIN:VEVENT
DTSTART;TZID=Europe/Bucharest:20160422T080000
DTEND;TZID=Europe/Bucharest:20160424T170000
DTSTAMP:20260422T193056
CREATED:20160324T122224Z
LAST-MODIFIED:20160324T122241Z
UID:5822-1461312000-1461517200@humaninvest.ro
SUMMARY:Young Managers Program - SLII®
DESCRIPTION:  \nDESPRE CURS\nThe SLII Experience™ (SLII®) este o solutie care a studiat\, definit si cultivat unii dintre cei mai buni lideri din diferite tipuri de industrii. Avand la baza una dintre cele mai cunoscute si mai utilizate metode de leadership din lume (milioane de manageri din peste 36 de tari)\, cursul ofera o abordare practica a conceptului de leadership pe piata romaneasca\, punand la dispozitia participantilor instrumente concrete si valoroase pentru a-si consolida abilitatile de leadership. \nNoul design de invatare – The SLII Experience™ (SLII®)II Experience utilizeaza cele mai inovative tehnici de invatare pentru a asigura o experienta cat mai buna pentru participant. Programul contine instrumente de lucru pre si post sesiune\, studii de caz bazate pe provocari reale si materiale aditionale pentru a incuraja practicarea abilitatilor. \nOBIECTIVE INVATARE\n\nConvingeri si perspective despre leadership\nDiagnoza nivelului de dezvoltare al angajatilor\nFlexibilitatea stilurilor de leadership\nPotrivirea stilului de leadership cu situatia\nPractica abilitatilor de leadership\nParteneriatul pentru performanta\n\nPUBLIC TINTA\n\nPersoane care au rol de lider si care doresc sa-si creasca eficienta\nManageri\nAngajati cu potential crescut in a deveni manageri sau lideri\n\nFACILITATOR\n\nViorel Panaite\n\nPENTRU INSCRIERE:\ninfo@msmro.org\nFacebook.com/msmro
URL:https://humaninvest.ro/event/young-managers-program-slii-experience/
LOCATION:MSM Romania\, Bld. Dacia nr 99\, Bucharest\, 020062
ATTACH;FMTTYPE=image/png:https://humaninvest.ro/wp-content/uploads/2016/02/11021068_832374293465643_4198753201017619972_n.png
ORGANIZER;CN="Maastricht%20School%20of%20Management%20Romania":MAILTO:info@msmromania.org
END:VEVENT
END:VCALENDAR