BEGIN:VCALENDAR
VERSION:2.0
PRODID:-//Human Invest - ECPv5.4.0.2//NONSGML v1.0//EN
CALSCALE:GREGORIAN
METHOD:PUBLISH
X-WR-CALNAME:Human Invest
X-ORIGINAL-URL:https://humaninvest.ro
X-WR-CALDESC:Events for Human Invest
BEGIN:VTIMEZONE
TZID:Europe/Bucharest
BEGIN:DAYLIGHT
TZOFFSETFROM:+0200
TZOFFSETTO:+0300
TZNAME:EEST
DTSTART:20250330T010000
END:DAYLIGHT
BEGIN:STANDARD
TZOFFSETFROM:+0300
TZOFFSETTO:+0200
TZNAME:EET
DTSTART:20251026T010000
END:STANDARD
END:VTIMEZONE
BEGIN:VEVENT
DTSTART;VALUE=DATE:20251029
DTEND;VALUE=DATE:20251030
DTSTAMP:20260422T182906
CREATED:20250717T193602Z
LAST-MODIFIED:20251022T035905Z
UID:17891-1761696000-1761782399@humaninvest.ro
SUMMARY:Workshop Open: My Leadership Point of View (LPOV)\, 29 Octombrie - F2F Classroom\, Bucuresti
DESCRIPTION:DESPRE WORKSHOP:\nProgramul My Leadership Point of View (LPOV) te ajuta sa-ti dezvolti mijloacele de leadership necesare pentru a inspira\, pentru a mobiliza si pentru a creste implicarea oamenilor din jurul tau in initiativele si proiectele pe care le conduci! \nTot mai putini manageri isi aloca timp sa-si clarifice propria filozofie de leadership\, iar asta duce la scaderea influentei lor reale\, le accentueaza oboseala si starea personala de uzura\, le scade satisfactia din rolul de conducere si apetitul pentru leadership. \nWorkshop-ul te ajuta sa intaresti increderea reciproca in echipa\, sa cresti angajamentul si sustinerea oamenilor\, si sa construiesti semnificatia pe care vrei sa o dai eforturilor tale de leadership. Programul te pregateste sa le spui altora de ce conduci asa cum conduci si sa stabilesti un contract de leadership matur si coerent\, bazat pe calitati\, pe lectii personale si pe puncte forte\, pe valori comune si pe scop comun.  \nClaritatea asupra propriei identitati ca lider aduce claritate asupra reperelor cheie in decizii de business si de leadership. Claritatea asupra filozofiei de leadership este esentiala pentru autenticitatea individuala\, pentru a comunica clar oamenilor din jur la ce te astepti de la ei si la ce sa se astepte de la tine privind modul de lucru cu tine. Iar cand liderii impartasesc celor din jur filozofia lor de leadership ei castiga incredere\, sustinere\, implicare si respect! Ei inspira\, mobilizeaza si cresc calitatea relatiilor in echipa! \n\nDe peste 15 ani utilizam cu mare succes acest workshop in kick-off-urile si sesiunile de inchidere ale academiilor de leadership adresate senior managerilor din organizatiile clientilor nostri sau in workshop-uri in-house de sine statatoare!\n\nWorkshop-ul este o experienta personala intensa\, un exercitiu care revitalizeaza si deschide noi orizonturi si perspective asupra felului in care managerii pot avea un impact pozitiv in jurul lor. \n\nIn prima parte a zilei participantii exploreaza mai intai tema autenticitatii\, se lasa inspirati de colegii lor privind rolul valorilor in momentele\, actiunile si conversatiile de leadership pe care le au in viata de business de zi cu zi. Reflectand mai intai individual la evenimentele cheie si momentele cheie din viata lor\, participantii se sprijina intre ei prin activitati diverse pentru a-si construi o prima versiune a My Leadership Point of View (LPOV): un prim draft al unui narativ structurat\, al unei Constitutii personale\, prin care isi intaresc legatura intre experientele care i-au definit\, pe de o parte\, si valorile\, filozofia de leadership si identitatea lor ca lider\, pe de alte parte. Vor avea ocazia sa vada un exemplu de LPOV al facilitatorului si felul in care acesta il foloseste in business.\nIn a doua parte a zilei\, participantii isi dau feedback reciproc si se ajuta intre ei sa-si imbunatateasca povestile personale\, iar apoi le vor prezenta pe rand\, in plenul grupei\, ca o prima practica de story-telling intr-un spatiu de siguranta. La finalul workshop-ului ei isi vor planifica timp ulterior pentru ajustarea si imbunatatirea povestilor personale. Unii din ei vor alege sa continuie sa lucreze intre ei\, altii vor alege sa lucreze cu un coach personal. Scopul este de a se preagti sa impartaseasca ulterior\, la o data aleasa de fiecare\, LPOV-ul lor\, echipei pe care o conduc.\n\n\nCand liderii isi inteleg si isi clarifica valorile cheie si asteptarile cheie in relatie cu echipele lor vor conduce coerent si autentic\, iar motivatia lor va fi una de calitate superioara care le va da energie proaspata. Iar cand isi impartasesc povestea personala de leadership\, ei inspira implicare\, incredere si sustinere!\n\nImpartasirea unui LPOV de catre manager in propria echipa este o experienta profund personala! Reflectia si povestea liderului declanseaza adesea noi perspective atat pentru el\, cat si pentru cei care asculta. Oamenii identifica puncte comune in experientele traite si capata o mai buna intelegere a motivatiilor si asteptarilor liderului. Acest lucru mobilizeaza\, stimuleaza angajamentul autentic si dorinta de a performa peste asteptari. Experienta impartasirii LPOV transforma liderii\, schimba relatiile lor cu oamenii pe care ii conduc! \nInscrie-te chiar Acum!\n\n  \n\nProgram: 29 Octombrie\, 09:00 – 17:00\nFacilitator: Viorel Panaite\, Managing Partner Human Invest\nLocatie: Hotel Capital Plaza\, Bd. Iancu de Hunedoara Nr. 54\, Bucuresti\n\n  \n\n  \n\n 
URL:https://humaninvest.ro/event/workshop-open-my-leadership-point-of-view-lpov-29-octombrie-f2f-classroom-bucuresti/
LOCATION:Hotel Capital Plaza\, Bd. Iancu de Hunedoara\, nr 54\, sector 1\, 011745 București\, Romania
CATEGORIES:Evenimente publice,Leadership Point of View
ATTACH;FMTTYPE=image/jpeg:https://humaninvest.ro/wp-content/uploads/2023/04/photo-5.jpg
ORGANIZER;CN="Human%20Invest":MAILTO:contact@humaninvest.ro
END:VEVENT
END:VCALENDAR