BEGIN:VCALENDAR
VERSION:2.0
PRODID:-//Human Invest - ECPv5.4.0.2//NONSGML v1.0//EN
CALSCALE:GREGORIAN
METHOD:PUBLISH
X-WR-CALNAME:Human Invest
X-ORIGINAL-URL:https://humaninvest.ro
X-WR-CALDESC:Events for Human Invest
BEGIN:VTIMEZONE
TZID:Europe/Bucharest
BEGIN:DAYLIGHT
TZOFFSETFROM:+0200
TZOFFSETTO:+0300
TZNAME:EEST
DTSTART:20170326T010000
END:DAYLIGHT
BEGIN:STANDARD
TZOFFSETFROM:+0300
TZOFFSETTO:+0200
TZNAME:EET
DTSTART:20171029T010000
END:STANDARD
END:VTIMEZONE
BEGIN:VEVENT
DTSTART;TZID=Europe/Bucharest:20170407T140000
DTEND;TZID=Europe/Bucharest:20170407T150000
DTSTAMP:20260422T184642
CREATED:20170326T180809Z
LAST-MODIFIED:20170326T180809Z
UID:6153-1491573600-1491577200@humaninvest.ro
SUMMARY:Webinar: Lansare Building Trust in Romania
DESCRIPTION:Human Invest va invita la un webinar cu ocazia lansarii programului in Romania adresat managerilor si specialistilor HR. \nFacilitatori: Ioana Marinescu si Iulian Olariu \nRSVP: sanda.moraru@humaninvest.ro
URL:https://humaninvest.ro/event/webinar-lansare-building-trust-romania/
ATTACH;FMTTYPE=image/jpeg:https://humaninvest.ro/wp-content/uploads/2017/03/p1bc5sjo9s1magkk8vbvtjr8vg4.jpg
ORGANIZER;CN="Human%20Invest":MAILTO:contact@humaninvest.ro
END:VEVENT
END:VCALENDAR