BEGIN:VCALENDAR
VERSION:2.0
PRODID:-//Human Invest - ECPv5.4.0.2//NONSGML v1.0//EN
CALSCALE:GREGORIAN
METHOD:PUBLISH
X-WR-CALNAME:Human Invest
X-ORIGINAL-URL:https://humaninvest.ro
X-WR-CALDESC:Events for Human Invest
BEGIN:VTIMEZONE
TZID:Europe/Bucharest
BEGIN:DAYLIGHT
TZOFFSETFROM:+0200
TZOFFSETTO:+0300
TZNAME:EEST
DTSTART:20200329T010000
END:DAYLIGHT
BEGIN:STANDARD
TZOFFSETFROM:+0300
TZOFFSETTO:+0200
TZNAME:EET
DTSTART:20201025T010000
END:STANDARD
END:VTIMEZONE
BEGIN:VEVENT
DTSTART;TZID=Europe/Bucharest:20201126T100000
DTEND;TZID=Europe/Bucharest:20201126T113000
DTSTAMP:20260419T160523
CREATED:20201015T091049Z
LAST-MODIFIED:20201015T115919Z
UID:9051-1606384800-1606390200@humaninvest.ro
SUMMARY:Virtual Briefing | Team coaching: un instrument eficient pentru echipe si organizatii
DESCRIPTION:Anul 2020 reprezinta o provocare pentru toate companiile: munca remote si atentia la sanatatea angajatilor\, comunicarea intre echipe\, mentinerea productivitatii si evitarea actiunilor inutile\, pierderile sau criza financiara. Toate acestea genereaza stare de incertitudine\, instabilitatea emotionala\, stres. Leaderii au provocari cu managementul activitatilor de business si cu transformarea lor\, fac parte din multiple echipe\, trebuie sa faca mai mult cu mai putine resurse\, intr-un moment in care lumea devine mai complexa si mai interconectata. \n\nCum poate sprijini team-coaching-ul dezvoltarea unei echipe?\nCe teme de dezvoltare au acum echipele din organizatiile voastre?\nCare sunt 3 teme prioritare ale unei echipe din organizatie\, teme care ar putea fi adresate prin coaching de echipa?\n\nVa invitam la un workshop in care sa descoperiti de ce team-coaching-ul este mai important acum mai mult decat oricand. Vom impartasi studii de caz recente despre cum am implementat procese de team-coaching\, vom explora impreuna nevoile echipelor din organizatii si de ce team-coaching-ul este o solutie cu un bun impact \n\nAGENDA EVENIMENTULUI\n\nDate concrete: de ce team-coaching-ul este acum mai important ca oricand?\nCare sunt acum nevoile echipelor din organizatia voastra? Activitate interactiva;\nStudii de caz dintre proiectele desfasurate de noi in 2020;\nCum puteti sa implementati solutii de impact in organizatie prin team-coaching?\nQ&A\n\n\nFACILITATORI\n\nIoana Marinescu: Coach PCC\, Senior Consulting Associate Human Invest\nMonica Nicolescu: Coach PCC\, Senior Consulting Associate Human Invest\n\nINREGISTREAZA-TE AICI
URL:https://humaninvest.ro/event/virtual-briefing-team-coaching-un-instrument-eficient-pentru-echipe-si-organizatii/
LOCATION:Zoom
CATEGORIES:Virtual Briefing
ATTACH;FMTTYPE=image/jpeg:https://humaninvest.ro/wp-content/uploads/2020/10/Team-Coaching-Human-Invest.jpg
ORGANIZER;CN="Human%20Invest":MAILTO:contact@humaninvest.ro
END:VEVENT
END:VCALENDAR