BEGIN:VCALENDAR
VERSION:2.0
PRODID:-//Human Invest - ECPv5.4.0.2//NONSGML v1.0//EN
CALSCALE:GREGORIAN
METHOD:PUBLISH
X-WR-CALNAME:Human Invest
X-ORIGINAL-URL:https://humaninvest.ro
X-WR-CALDESC:Events for Human Invest
BEGIN:VTIMEZONE
TZID:Europe/Bucharest
BEGIN:DAYLIGHT
TZOFFSETFROM:+0200
TZOFFSETTO:+0300
TZNAME:EEST
DTSTART:20200329T010000
END:DAYLIGHT
BEGIN:STANDARD
TZOFFSETFROM:+0300
TZOFFSETTO:+0200
TZNAME:EET
DTSTART:20201025T010000
END:STANDARD
END:VTIMEZONE
BEGIN:VEVENT
DTSTART;TZID=Europe/Bucharest:20200603T160000
DTEND;TZID=Europe/Bucharest:20200603T173000
DTSTAMP:20260422T211053
CREATED:20200519T081804Z
LAST-MODIFIED:20200519T085054Z
UID:8078-1591200000-1591205400@humaninvest.ro
SUMMARY:Leading for Recovery – Parteneri si clienti mai loiali prin simplificare
DESCRIPTION:In vanzari “contorul se reseteaza la inceputul fiecarei luni” si echipele de sales trebuie sa continue sa genereze rezultate cu toate ca realitatea si piata s-au schimbat. Conteaza mai mult ca pana acum sa ne tinem clientii si partenerii aproape\, iar pentru asta noi credem ca simplificarea este un imperativ central. Cum pot obtine managerii de vanzari loialitatea partenerilor si clientilor prin simplificare? Cum contribuie simplificarea proceselor la obiectivele de Sales Growth ale organizatiei? De ce managerii de vanzari au nevoie de competente de coaching mai mult ca oricand? Sunt intrebari care vor conduce evenimentul nostru dedicat tuturor profesionistilor din vanzari\, marketing\, dar si din resurse umane.   \nScopul acestei serii de evenimente interactive este de a reuni profesionisti care doresc sa impartaseasca din provocarile pe care le au\, din solutiile pe care le-au gasit pentru a depasi mai usor aceasta perioada si pentru a progresa. Suntem diferiti si putem invata lucruri noi unii de la altii. Evenimentele sunt facilitate pe rand de colegi diferiti de-ai nostri\, in stilul propriu Human Invest\, stil care ofera spatii de calitate\, pentru conversatii autentice si cu adevarat relevante. Cu invitati foarte intersanti\, cu lectii personale transparente\, cu lucru in grupe mici\, aceste dialoguri vor oferi tuturor inspiratie pentru a ne sustine in eforturile pe care le facem in aceste zile. \n\nFacilitatorii sesiunii „Parteneri și clienti mai loiali prin simplificare”:\n– Razvan Botezatu\, Senior Consulting Associate Human Invest\n– Viorel Panaite\, Managing Partner Human Invest \nInvitati:\n– Ionut Craciun: Coffee and Premium Spirits Sales Manager Coca Cola HBC\n– Ovidiu Tunaru: Business Executive Officer Nestle Professional Romania\, Bulgaria and Adriatic Region \nPentru inregistrare\, accesati acest link
URL:https://humaninvest.ro/event/leading-for-recovery-parteneri-si-clienti-mai-loiali-prin-simplificare/
LOCATION:Human Invest\, ads\, Bucuresti\, România
CATEGORIES:Virtual Leadership Dialogues
ATTACH;FMTTYPE=image/jpeg:https://humaninvest.ro/wp-content/uploads/2020/05/Human-Invest-Razvan-Botezatu-Ionut-Craciun-Ovidiu-Tunaru-Viorel-Panaite.jpg
ORGANIZER;CN="Human%20Invest":MAILTO:contact@humaninvest.ro
END:VEVENT
END:VCALENDAR