BEGIN:VCALENDAR
VERSION:2.0
PRODID:-//Human Invest - ECPv5.4.0.2//NONSGML v1.0//EN
CALSCALE:GREGORIAN
METHOD:PUBLISH
X-WR-CALNAME:Human Invest
X-ORIGINAL-URL:https://humaninvest.ro
X-WR-CALDESC:Events for Human Invest
BEGIN:VTIMEZONE
TZID:Europe/Bucharest
BEGIN:DAYLIGHT
TZOFFSETFROM:+0200
TZOFFSETTO:+0300
TZNAME:EEST
DTSTART:20230326T010000
END:DAYLIGHT
BEGIN:STANDARD
TZOFFSETFROM:+0300
TZOFFSETTO:+0200
TZNAME:EET
DTSTART:20231029T010000
END:STANDARD
END:VTIMEZONE
BEGIN:VEVENT
DTSTART;TZID=Europe/Bucharest:20230309T093000
DTEND;TZID=Europe/Bucharest:20230309T113000
DTSTAMP:20260421T134827
CREATED:20230128T110559Z
LAST-MODIFIED:20230307T172540Z
UID:13672-1678354200-1678361400@humaninvest.ro
SUMMARY:Lansarea in Romania a programului Servant Leadership (F2F Event)*
DESCRIPTION:Va invitam la lansarea in Romania a programului Servant Leadership!\nWorkshop-urile pilot desfasurate in 2022 au fost printre cele care au primit cele mai pozitive ecouri din programele noastre! Filozofia Servant Leadership aduce managerilor care o adopa un echilibru personal mai bun\, mai multa energie proaspata si pozitiva\, un sentiment mai bun de sens si de semnificatie a muncii\, mai multe satisfactii si un nivel superior de maturitate. \nRaspunsul la intrebarea „Este despre mine sau este despre ceilalti?” reflecta calitatea relatiilor pe care le avem cu cei din jur. Dupa ce toate liniile au fost trase\, leadership-ul este despre a fi in serviciul celorlalti. Liderii obtin sustinerea oamenilor atunci cand isi lasa ego-ul la o parte si invata cum sa puna scopul comun in centrul proceselor si a deciziilor pe care le iau. \nDescarca EBOOK: Impactul Servant Leadership asupra culturii organizationale\n  \n\n  \nKen Blanchard: When I ask people whether they’d like to be known as a servant leader or a self-serving leader\, everyone says “servant leader.” Nobody wants to be known as a self-serving leader. Yet we observe self-serving leadership all the time. Why? The human ego. \nEgo interferes with effective leadership in two ways: one is false pride—thinking more of yourself than you should. You push and shove for credit and spend a lot of time promoting yourself. The other way is self-doubt or fear—thinking less of yourself than you should. You’re consumed with your own shortcomings and spend a lot of time protecting yourself. The foundation for both false pride and self-doubt is low self-esteem. The good news is that there’s an antidote! \nFilozofia Servant Leadership aduce flexibilitate si autonomie in mediul de lucru\, adica exact cele mai importante lucruri pe care le cauta acum atat angajatii\, cat si organizatiile. Servant Leadership in Actiune inseamna ca managerii sa stapaneasca conversatii pragmatice prin care acestia arata flexibilitate si construiesc flexibilitate in mediul de lucru. Servant Leadership in Actiune inseamna ca managerii stiu sa conduca prin valori si stiu sa foloseasca stilul adecvat de leadership in functie de nevoile de a progresa ale celor pe care ii conduc!\nEvenimentul de lansare a programului va avea loc in data de 9 martie 2023\, la Grand Hotel Bucharest\, sala Coralle\, Blvd. Nicolae Balcescu\, nr 4\, iar participarea este gratuita si se face pe baza de invitatie in limita locurilor disponibile. Pentru a primi invitatia\, va rugam sa contactati consultantul Human Invest cu care lucrati in mod obisnuit sau scrieti-ne pe adresa contact@humaninvest.ro.\nInvitati:\n\n \n\n  \nGazde:\n  \n*Detalii privind evenimentul virtual de lansare\, gasiti aici.\n  \n\n  \nPrioritati de inceput de an: Aliniere\, Servant Leadership si Self LeadershipServant Leadership – Beneficiile aduse de Servant LeadershipServant Leadership\, Alexandru Andone\, Cegeka: Cei pe care ii conduc isi cunosc cel mai bine domeniulServant Leadership\, Radu Predescu\, Autonom: Mergi in mijlocul oamenilor fie ca te simti pregatit sau nuWellbeing prin Servant Leadership: Misiunea noii generatii de manageri de la toate nivelurile!Servant Leadership\, Maria Badea – La Zentiva oamenii sunt inima companieiServant Leadership – un mod de lucru care construieste autenticitateServant Leadership\, Gabriela Beres: Un scop social pozitiv iti ofera capacitatea sa-i sprijini cu adevarat pe cei din jurServant Leadership este esential pentru echipele agile: Andrei Merdescu\, ThalesFilozofia Servant Leadership – ce este si ce nu este?Servant Leadership: Pentru construirea unei societati moraleServant Leadership pentru wellbeing-ul tuturor generatiilorLeading for Recovery\, Andrei Dudoiu: "Be a Servant Leader!"\n\n  \nOPEN SESSION – EXECUTIVE LEADERSHIP PROGRAM \n \n  \n  \nPovesti de Succes\nStudiu de caz Change Management: De la dezinteres\, la apetit pentru leadershipPoveste de Succes Microchip Technology: Masuratorile arata impact pozitiv al SLII®Poveste de Succes Eli Lilly: O cultura constructiva prin SLII®Poveste de succes Zentiva: “Servant Leadership in Action”Poveste de succes: Program de dezvoltare pentru echipa de management Eberspaecher ControlsPoveste de Succes Wirtek: Academie de Leadership – Develop existing and future leadersPoveste de Succes Autodesk: Abordarea situationala SLII si Self LeadershipPoveste de succes Synevo: Excelenta in vanzari si leadership prin SLIIPoveste de Succes Hella Romania: Academie Interna de Leadership Multi-anualaPoveste de Succes NN Romania: Construirea unei culturi de leadership si performantaPoveste de Succes LSEG Romania: Crearea unei culturi organizationale sanatoasePoveste de Succes AMGEN: “Leading Without Authority” premiat international
URL:https://humaninvest.ro/event/lansarea-in-romania-a-programului-servant-leadership/
LOCATION:la Grand Hotel Bucharest\, sala Coralle\, Blvd. Nicolae Balcescu\, nr 4
ATTACH;FMTTYPE=image/jpeg:https://humaninvest.ro/wp-content/uploads/2023/01/Human-Invest-Servant-Leadership-Power-2-scaled.jpg
ORGANIZER;CN="Human%20Invest":MAILTO:contact@humaninvest.ro
END:VEVENT
END:VCALENDAR