BEGIN:VCALENDAR
VERSION:2.0
PRODID:-//Human Invest - ECPv5.4.0.2//NONSGML v1.0//EN
CALSCALE:GREGORIAN
METHOD:PUBLISH
X-WR-CALNAME:Human Invest
X-ORIGINAL-URL:https://humaninvest.ro
X-WR-CALDESC:Events for Human Invest
BEGIN:VTIMEZONE
TZID:Europe/Bucharest
BEGIN:DAYLIGHT
TZOFFSETFROM:+0200
TZOFFSETTO:+0300
TZNAME:EEST
DTSTART:20160327T010000
END:DAYLIGHT
BEGIN:STANDARD
TZOFFSETFROM:+0300
TZOFFSETTO:+0200
TZNAME:EET
DTSTART:20161030T010000
END:STANDARD
END:VTIMEZONE
BEGIN:VEVENT
DTSTART;TZID=Europe/Bucharest:20160420T083000
DTEND;TZID=Europe/Bucharest:20160420T120000
DTSTAMP:20260422T164008
CREATED:20160322T141237Z
LAST-MODIFIED:20160323T221101Z
UID:5815-1461141000-1461153600@humaninvest.ro
SUMMARY:Lansare "First Time Manager" in Romania
DESCRIPTION:Human Invest lanseaza in exclusivitate in Romania noul program First Time Manager de la Ken Blanchard Companies\, dezvoltat pentru a veni in sprijinul celor aﬂati pentru prima oara intr-o pozitie manageriala si acelora care vor sa faca tranzitia spre o pozitie de management. \nPrima pozitie de conducere este una dintre cele mai provocatoare si critice tranzitii de cariera. Managerii noi sunt de cele mai multe ori alesi din randul angajatilor cu potential. Acesti specialisti exceleaza in ceea ce priveste abilitatile de implementare\, dar de cele mai multe ori intampina provocari ca manageri\, pentru ca nu au metodele si competentele necesare pentru a reusi. Rata de esec este foarte mare. \nBlanchard s-a decis sa vina in sprijinul celor aflati pentru prima oara intr-o pozitie manageriala\, invatandu-i competentele esentiale de care au nevoie pentru a avea un start de impact in noua pozitie. \nAvand la baza cartea de succes The New One Minute Manager\, aceasta solutie le prezinta participantilor cele trei secrete ale managerilor de succes: Stabilirea obiectivelor\, Aprecierea si Redirecionarea\, care creeaza un cadru de conversatie usor de inteles si practicat de catre noii manageri. Solutia include si o a patra conversatie\, Sumarizarea\, care este necesara pentru a completa conversatiile cheie si a ajuta noii manageri sa creasca nivelul de angajament si autonomie al membrilor echipei pe care o coordoneaza. \nFacilitatori\nViorel Panaite\, Managing Partner Human Invest\nMonica Nicolescu\, Consulting Associate Human Invest \nAgenda\n08:30-09:00 Welcome coffee si breakfast\n09:00-10:30 Manageri aflati pentru prima data in pozitii de conducere – o tranzitie de cariera provocatoare. Cum pot fi sprijiniti acesti First-time Managers? Provocari\, strategii\, solutii si exemple de bune practici intalnite la companiile participante. Discutii in working group-uri si in plen.\n10:30-10:50 Pauza de cafea\n10:50-12:00 Programul First Time Manager de la Ken Blanchard Companies – lansarea programului in Romania: beneficii si detalii despre program\, optiuni pentru implementare.  Sesiune de intrebari si raspunsuri; concluzii. \n\nRSVP: georgeta.bora@humaninvest.ro pana pe 12 aprilie 2016
URL:https://humaninvest.ro/event/lansare-first-time-manager-romania/
LOCATION:Hotel Intercontinental\, sala Opera\, Bulevardul Nicolae Bălcescu 4\, Bucuresti\, 010051\, România
CATEGORIES:Evenimente publice
ATTACH;FMTTYPE=image/jpeg:https://humaninvest.ro/wp-content/uploads/2016/03/ScreenShot2016-03-22at16.05.27.jpg
ORGANIZER;CN="Human%20Invest":MAILTO:contact@humaninvest.ro
END:VEVENT
END:VCALENDAR