BEGIN:VCALENDAR
VERSION:2.0
PRODID:-//Human Invest - ECPv5.4.0.2//NONSGML v1.0//EN
CALSCALE:GREGORIAN
METHOD:PUBLISH
X-WR-CALNAME:Human Invest
X-ORIGINAL-URL:https://humaninvest.ro
X-WR-CALDESC:Events for Human Invest
BEGIN:VTIMEZONE
TZID:Europe/Bucharest
BEGIN:DAYLIGHT
TZOFFSETFROM:+0200
TZOFFSETTO:+0300
TZNAME:EEST
DTSTART:20210328T010000
END:DAYLIGHT
BEGIN:STANDARD
TZOFFSETFROM:+0300
TZOFFSETTO:+0200
TZNAME:EET
DTSTART:20211031T010000
END:STANDARD
END:VTIMEZONE
BEGIN:VEVENT
DTSTART;VALUE=DATE:20211012
DTEND;VALUE=DATE:20211014
DTSTAMP:20260419T160652
CREATED:20210909T160332Z
LAST-MODIFIED:20211031T065820Z
UID:10710-1633996800-1634169599@humaninvest.ro
SUMMARY:First-time Manager
DESCRIPTION:Prima pozitie de conducere este una dintre cele mai provocatoare si critice tranzitii de cariera. Managerii noi sunt de cele mai multe ori alesi din randul angajatilor cu potential. Acesti specialisti exceleaza in ceea ce priveste abilitatile de implementare\, dar de cele mai multe ori intampina provocari ca manageri\, pentru ca nu au metodele si competentele necesare pentru a reusi. Rata de esec este foarte mare.\n \nTranzitia de la un specialist de succes la un manager de succes este una comuna\, dar provocatoare in același timp. Ea necesită un nou mindset si un nou set de abilitati. Programul nostru global First-time Manager ii ajuta pe manageri sa inceapa cu bine acest rol\, oferindu-le pregatirea de care au nevoie pentru o tranzitie cat mai reusita.  \nPersoanele aflate pentru prima oara intr-o poziție de conducere\, care primesc instrumentele\, abilitatile și trainingurile potrivite inca de la inceput\, se pot transforma in lideri eficienti care\, la randul lor\, dezvolta angajați implicați și productivi ce aduc rezultate pozitive companiei. Descarca white-paper „Core Skills Every Manager Should Master”\, aici.  \n  \n \nScopul programului First-time Manager:\n\nO rata de succes mai mare pentru managerii noi\nO productivitate mai ridicata a echipei\nNoii manageri sunt mai bine pregatiti pentru aceasta tranzitie provocatoare\nParticipantii au oportunitatea sa invete si sa practice competentele esentiale de care au nevoie pentru a avea succes\nNoii manageri sunt mai orientati spre echipa inca de la inceput\n\nCui se adreseaza:\n\nPersoane aflate pentru prima oara intr-o pozitie de conducere sau cei care vor sa faca tranzitia spre o pozitie de management\nManageri proaspat numiti care vor sa isi creasca eficienta lor ca lideri\nTeam-leaderi\, middle manageri sau coordonatori de echipa recent numiti in aceste roluri\nDescarca prezentarea sesiunii open.\n\n\n\n\nObiective de invatare:\n\nConstientizarea diferentei dintre rolul unui contributor individual si cel al unui manager. Identificarea noului mod de gandire necesar pentru a efectua cu succes aceasta tranzitie\nInvatarea celor 4 conversatii manageriale cheie: Stabilirea obiectivelor\, Aprecierea\, Redirecionarea si Sumarizarea\nObtinerea abilitatilor necesare pentru a creste calitatea parteneriatelor la locul de munca. Aceste competente sunt bazate pe modelul nostru de coaching: Asculta activ\, Exploreaza alte perspective\, Impartaseste perceptia ta si Arata ca ai incredere\nPracticarea Abilitatilor esentiale si a celor 4 conversatii-cheie in studii de caz bazate pe provocari reale\n\n\n\nFormat:\nCursul este impartit in 3 sesiuni de cate doua ore fiecare\, conform orelor de mai jos: \n\n12 octombrie intre orele 10.00-12.00 sesiunea 1\n12 octombrie  intre orele 14.00-16.00 sesiunea 2\n13 octombrie intre orele 10:00-12.00 sesiunea 3\n\nFee-ul este de 230 EUR+TVA si include accesul la platforma online Blanchard Exchange pentru un an de zile \n\n\n\nFacilitator: Andreea Gheorghita\nPENTRU INSCRIERE:\nDescarca si completeaza Formularul de Participare. Trimite-l prin e-mail la adresa sanda.moraru@humaninvest.ro \n CONTACTEAZA-NE!
URL:https://humaninvest.ro/event/first-time-manager/
LOCATION:Zoom
CATEGORIES:First Time Manager
ATTACH;FMTTYPE=image/jpeg:https://humaninvest.ro/wp-content/uploads/2016/03/main-article.jpg
ORGANIZER;CN="Human%20Invest":MAILTO:contact@humaninvest.ro
END:VEVENT
END:VCALENDAR