BEGIN:VCALENDAR
VERSION:2.0
PRODID:-//Human Invest - ECPv5.4.0.2//NONSGML v1.0//EN
CALSCALE:GREGORIAN
METHOD:PUBLISH
X-WR-CALNAME:Human Invest
X-ORIGINAL-URL:https://humaninvest.ro
X-WR-CALDESC:Events for Human Invest
BEGIN:VTIMEZONE
TZID:Europe/Bucharest
BEGIN:DAYLIGHT
TZOFFSETFROM:+0200
TZOFFSETTO:+0300
TZNAME:EEST
DTSTART:20160327T010000
END:DAYLIGHT
BEGIN:STANDARD
TZOFFSETFROM:+0300
TZOFFSETTO:+0200
TZNAME:EET
DTSTART:20161030T010000
END:STANDARD
END:VTIMEZONE
BEGIN:VEVENT
DTSTART;VALUE=DATE:20161020
DTEND;VALUE=DATE:20161022
DTSTAMP:20260422T163633
CREATED:20151228T102113Z
LAST-MODIFIED:20170224T062134Z
UID:5658-1476921600-1477094399@humaninvest.ro
SUMMARY:CURS OPEN: SLII® Experience
DESCRIPTION:  \nDESPRE CURS\nThe SLII Experience™ (SLII®) este o solutie care a studiat\, definit si cultivat unii dintre cei mai buni lideri din diferite tipuri de industrii. Avand la baza una dintre cele mai cunoscute si mai utilizate metode de leadership din lume (milioane de manageri din peste 36 de tari)\, cursul ofera o abordare practica a conceptului de leadership pe piata romaneasca\, punand la dispozitia participantilor instrumente concrete si valoroase pentru a-si consolida abilitatile de leadership. \nNoul design de invatare – The SLII Experience™ (SLII®)II Experience utilizeaza cele mai inovative tehnici de invatare pentru a asigura o experienta cat mai buna pentru participant. Programul contine instrumente de lucru pre si post sesiune\, studii de caz bazate pe provocari reale si materiale aditionale pentru a incuraja practicarea abilitatilor. \nOBIECTIVE INVATARE\n\nConvingeri si perspective despre leadership\nDiagnoza nivelului de dezvoltare al angajatilor\nFlexibilitatea stilurilor de leadership\nPotrivirea stilului de leadership cu situatia\nPractica abilitatilor de leadership\nParteneriatul pentru performanta\n\nPUBLIC TINTA\n\nPersoane care au rol de lider si care doresc sa-si creasca eficienta\nManageri\nAngajati cu potential crescut in a deveni manageri sau lideri\n\nFACILITATOR\n\nGeorge Agafitei\n\nPENTRU INSCRIERE:\nDescarca si completeaza Formularul de Participare. Trimite-l prin e-mail la adresa sanda.moraru@humaninvest.ro sau prin fax la numarul urmator : (+4) 021 318 89 29. \nVezi prezentare detaliata. \n®2011 The Ken Blanchard Companies. Human Invest este reprezentatul exclusiv al solutiilor de training The Ken Blanchard Companies in Romania.
URL:https://humaninvest.ro/event/curs-open-slii-experience/
LOCATION:V7 StartUp Studio\, din Str. D. I. Mendeleev nr. 5 (Pta Amzei)\, Bucuresti\, 010573\, România
CATEGORIES:Cursuri deschise
ATTACH;FMTTYPE=image/jpeg:https://humaninvest.ro/wp-content/uploads/2015/09/logo-slii-experience-video.jpg
ORGANIZER;CN="Human%20Invest":MAILTO:contact@humaninvest.ro
END:VEVENT
END:VCALENDAR