BEGIN:VCALENDAR
VERSION:2.0
PRODID:-//Human Invest - ECPv5.4.0.2//NONSGML v1.0//EN
CALSCALE:GREGORIAN
METHOD:PUBLISH
X-WR-CALNAME:Human Invest
X-ORIGINAL-URL:https://humaninvest.ro
X-WR-CALDESC:Events for Human Invest
BEGIN:VTIMEZONE
TZID:Europe/Bucharest
BEGIN:DAYLIGHT
TZOFFSETFROM:+0200
TZOFFSETTO:+0300
TZNAME:EEST
DTSTART:20220327T010000
END:DAYLIGHT
BEGIN:STANDARD
TZOFFSETFROM:+0300
TZOFFSETTO:+0200
TZNAME:EET
DTSTART:20221030T010000
END:STANDARD
END:VTIMEZONE
BEGIN:VEVENT
DTSTART;VALUE=DATE:20220322
DTEND;VALUE=DATE:20220430
DTSTAMP:20260423T120637
CREATED:20220114T072241Z
LAST-MODIFIED:20220407T200519Z
UID:11429-1647907200-1651276799@humaninvest.ro
SUMMARY:Acreditarea online pentru programul The Five Behaviors of a Cohesive Team™ (EN)
DESCRIPTION:Despre acreditare\nAcreditarea online pentru programul Five Behaviors of a Cohesive TeamTM reprezinta un curs online care te va ajuta sa-ti imbogatesti abilitatile de consultant si de facilitator al acestui puternic program de dezvoltare a echipei\, pentru a sprijini persoane talentate sa lucreze si sa formeze echipe extraordinare. \nAcest curs te va sprijini sa obtii cunostintele\, expertiza si increderea in utilizarea modelului Five Behaviors si a materialelor de curs corespunzatoare. Vei invata sa gestionezi momentele neasteptate si conversatiile provocatoare\, iti vei dezvolta capacitatea de a facilita agenda: sa simti cand este oportun sa respecti pasii standard sau cand sa faci schimbari\, cand e folositor sa lasi o dezbatere sa aiba loc sau cand sa o intrerupi. \nDe ce sa te acreditezi in cadrul acestui program?\n\nVei primi o acreditare valoroasa care are in spate peste 40 de ani de experienta si cercetari realizate de Wiley\, cat si 200 de ani de excelenta in publishing.\nVei obtine cunostinte si expertiza cu privire la modelul construit de Patrick Lencioni\, evaluarea\, cu privire la evaluarea si rezultatele obtinute in profil\, cat si strategii pentru a depasi posibile provocari in workshop-uri sau sesiuni de coaching.\nVei putea intelege strategii pentru a diagnostica nevoile specifice ale unui grup si pentru a adapta experienta de invatare pentru rezultate optime si de impact.\nParticipantii care detin acreditarea SHRM sunt eligibili sa obtina 15 credite de dezvoltare (professional development credits – PCDs) de la Society for Human Resource Management.\n\nRezultate asteptate\nIn urma acestei acreditari: \n\nVei avea un grad mai ridicat de incredere si competenta in livrarea de sesiuni folosind modelul The Five Behaviors in organizatia din care faci parte;\nIti vei imbogati experienta de facilitare;\nVei invata sa gestionezi momentele neasteptate si conversatiile provocatoare;\nVei primi un certificat de acreditare ca facilitator a programului The Five Behaviors dupa finalizarea cu succes a acestui curs.\n\nComponentele programului\nAcest program include: \n\n5 module saptamanale plus partea de pregatire (pre-work)\nSesiuni saptamanale de 90 de minute facilitate de traineri specializati\nStudiu individual (3-4 ore pe saptamana)\nAcces la resurse de invatare online\nAcces la cartea in format electronic (eBook) „The Five Dysfunctions of a Team”\n\nAcreditarea va fi acordata in urma finalizarii cursului Wiley si a trecerii cu succes a examenului de final. Acreditarea este valabila timp de 2 ani\, moment la care va exista optiunea de a o reinnoi. \nAi optiunea de a alege intre acreditarea The Five Behaviors Powered by Everything DiSC® sau The Five Behaviors Powered by All TypesTM. Alege cursul care foloseste profilul pe care il vei folosi cel mai des in facilitarea programului The Five Behaviors. Oricum\, acreditarea pe care o vei obtine prin acest curs te califica sa facilitezi acest program\, indiferent de profilul de personalitate pe care il utilizezi. Acreditarea nu iti impune sa folosesti doar un anumit profil. \nFa primul pas pentru a-ti creste competenta si increderea in facilitarea cu succes la programului The Five Behaviors! \nDate disponibile\nAcesta este un curs online cu componente de invatare individuala si patru activitati virtuale live. \n_________________________________________________________________________________ \n\nAcreditarea The Five Behaviors Powered by Everything DiSC®: 22 martie 2022 – 29 aprilie 2022\n\nInceperea programului: 22 martie\n29 martie – Sesiunea 1 – Introducerea modelului (17:00 – 18:30)*\n5 aprilie – Sesiunea 2 – Construirea increderii (17:00 – 18:30)*\n12 aprilie – Sesiunea 3 – Solutionarea conflictelor si cresterea angajamentului (17:00 – 18:30)*\n19 aprilie – Sesiunea 4 – Asumarea responsabilitatii si orientarea catre rezultate (17:00 – 18:30)*\n26 aprilie – Sesiunea 5 – Prezentarea proiectelor de catre participanti (17:00 – 18:30)*\n\n\n\n*ora locala Romania \nPentru a vedea cate locuri mai sunt disponibile la fiecare curs si pentru a va inregistra va rugam sa ne contactati la contact@humaninvest.ro. \nCerinte tehnice\nPentru a accesa acest curs online este necesar sa ai acces la un calculator sau laptop PC sau Mac (nu tableta sau smartphone) si la un telefon (fix sau mobil\, nu VOIP). Browserele recomandate pentru a accesa cursul online si a finaliza activitatile incluse in program sunt: \n\nMozilla Firefox\nGoogle Chrome\nInternet Explorer (versiunea 9 sau una mai noua)\n\n  \nDaca folosesti sistemul de operare Windows XP\, iti recomandam sa folosesti Google Chrome sau Mozilla Firefox\, avand in vedere ca Windows XP accepta doar Internet Explorer 8 sau versiuni mai vechi. Pentru mai multe detalii va rugam sa ne contactati la contact@humaninvest.ro. \nBuget\nPretul pentru certificarea online este 2\,180 Eur + TVA. Daca compania din care faci parte nu detine un kit de facilitare The Five Behaviors\, acesta trebuie achizitionat separat inainte de inceperea cursului: 1\,300 Eur + TVA. \nMai multe detalii \n\nThe Five Behaviors of a Cohesive TeamTM Powered by Everything DiSC – Facilitator Accreditation Course Syllabus\nThe Five Behaviors of a Cohesive TeamTM Facilitator Accreditation\nhttp://www.fivebehaviors.com/Accreditation.aspx
URL:https://humaninvest.ro/event/acreditarea-online-pentru-programul-the-five-behaviors-of-a-cohesive-team-en-3/
CATEGORIES:The Five Behaviors of a Cohesive Team™
ATTACH;FMTTYPE=image/png:https://humaninvest.ro/wp-content/uploads/2021/02/TheFiveBehaviors-FacilitatorAccreditation-Color.png
ORGANIZER;CN="Human%20Invest":MAILTO:contact@humaninvest.ro
END:VEVENT
END:VCALENDAR